BEGIN:VCALENDAR
VERSION:2.0
PRODID:-//Climate Action Network - ECPv5.3.1.1//NONSGML v1.0//EN
CALSCALE:GREGORIAN
METHOD:PUBLISH
X-WR-CALNAME:Climate Action Network
X-ORIGINAL-URL:https://climateactionnetwork.ca
X-WR-CALDESC:Events for Climate Action Network
BEGIN:VTIMEZONE
TZID:UTC
BEGIN:STANDARD
TZOFFSETFROM:+0000
TZOFFSETTO:+0000
TZNAME:UTC
DTSTART:20170101T000000
END:STANDARD
END:VTIMEZONE
BEGIN:VEVENT
DTSTART;VALUE=DATE:20171106
DTEND;VALUE=DATE:20171118
DTSTAMP:20210815T042143
CREATED:20170609T001449Z
LAST-MODIFIED:20170609T001449Z
UID:40396-1509926400-1510963199@climateactionnetwork.ca
SUMMARY:COP23 Bonn
DESCRIPTION:
URL:https://climateactionnetwork.ca/event/cop23-bonn/
LOCATION:Bonn\, Gernany\, Bonn\, Germany
CATEGORIES:Policy (International)
END:VEVENT
END:VCALENDAR