BEGIN:VCALENDAR
VERSION:2.0
PRODID:-//Climate Action Network - ECPv5.3.1.1//NONSGML v1.0//EN
CALSCALE:GREGORIAN
METHOD:PUBLISH
X-WR-CALNAME:Climate Action Network
X-ORIGINAL-URL:https://climateactionnetwork.ca
X-WR-CALDESC:Events for Climate Action Network
BEGIN:VTIMEZONE
TZID:UTC
BEGIN:STANDARD
TZOFFSETFROM:+0000
TZOFFSETTO:+0000
TZNAME:UTC
DTSTART:20170101T000000
END:STANDARD
END:VTIMEZONE
BEGIN:VEVENT
DTSTART;VALUE=DATE:20170608
DTEND;VALUE=DATE:20170609
DTSTAMP:20210815T045727
CREATED:20170608T233221Z
LAST-MODIFIED:20170608T233221Z
UID:40369-1496880000-1496966399@climateactionnetwork.ca
SUMMARY:UK national elections
DESCRIPTION:
URL:https://climateactionnetwork.ca/event/uk-national-elections/
CATEGORIES:Policy (International)
END:VEVENT
END:VCALENDAR