BEGIN:VCALENDAR
VERSION:2.0
PRODID:-//Climate Action Network - ECPv5.3.1.1//NONSGML v1.0//EN
CALSCALE:GREGORIAN
METHOD:PUBLISH
X-WR-CALNAME:Climate Action Network
X-ORIGINAL-URL:https://climateactionnetwork.ca
X-WR-CALDESC:Events for Climate Action Network
BEGIN:VTIMEZONE
TZID:UTC
BEGIN:STANDARD
TZOFFSETFROM:+0000
TZOFFSETTO:+0000
TZNAME:UTC
DTSTART:20170101T000000
END:STANDARD
END:VTIMEZONE
BEGIN:VEVENT
DTSTART;VALUE=DATE:20170918
DTEND;VALUE=DATE:20170925
DTSTAMP:20210815T043232
CREATED:20170609T001119Z
LAST-MODIFIED:20170609T001119Z
UID:40388-1505692800-1506297599@climateactionnetwork.ca
SUMMARY:Climate Week
DESCRIPTION:
URL:https://climateactionnetwork.ca/event/climate-week/
LOCATION:New York City
CATEGORIES:Conference
END:VEVENT
END:VCALENDAR