BEGIN:VCALENDAR
VERSION:2.0
PRODID:-//Climate Action Network - ECPv5.3.1.1//NONSGML v1.0//EN
CALSCALE:GREGORIAN
METHOD:PUBLISH
X-WR-CALNAME:Climate Action Network
X-ORIGINAL-URL:https://climateactionnetwork.ca
X-WR-CALDESC:Events for Climate Action Network
BEGIN:VTIMEZONE
TZID:UTC
BEGIN:STANDARD
TZOFFSETFROM:+0000
TZOFFSETTO:+0000
TZNAME:UTC
DTSTART:20170101T000000
END:STANDARD
END:VTIMEZONE
BEGIN:VEVENT
DTSTART;VALUE=DATE:20170707
DTEND;VALUE=DATE:20170709
DTSTAMP:20210815T045254
CREATED:20170608T235915Z
LAST-MODIFIED:20170608T235915Z
UID:40376-1499385600-1499558399@climateactionnetwork.ca
SUMMARY:G20 Summit
DESCRIPTION:
URL:https://climateactionnetwork.ca/event/g20-summit/
CATEGORIES:Policy (International)
END:VEVENT
END:VCALENDAR