BEGIN:VCALENDAR
VERSION:2.0
PRODID:-//Climate Action Network - ECPv5.3.1.1//NONSGML v1.0//EN
CALSCALE:GREGORIAN
METHOD:PUBLISH
X-WR-CALNAME:Climate Action Network
X-ORIGINAL-URL:https://climateactionnetwork.ca
X-WR-CALDESC:Events for Climate Action Network
BEGIN:VTIMEZONE
TZID:America/Toronto
BEGIN:DAYLIGHT
TZOFFSETFROM:-0500
TZOFFSETTO:-0400
TZNAME:EDT
DTSTART:20170312T070000
END:DAYLIGHT
BEGIN:STANDARD
TZOFFSETFROM:-0400
TZOFFSETTO:-0500
TZNAME:EST
DTSTART:20171105T060000
END:STANDARD
END:VTIMEZONE
BEGIN:VEVENT
DTSTART;TZID=America/Toronto:20170609T130000
DTEND;TZID=America/Toronto:20170609T140000
DTSTAMP:20210815T050251
CREATED:20170608T232917Z
LAST-MODIFIED:20170608T233048Z
UID:40365-1497013200-1497016800@climateactionnetwork.ca
SUMMARY:Webinar: Perspectives on carbon pricing in Canada
DESCRIPTION:WHAT THIS IS ABOUT: Environment and Climate Change Canada recently released a technical paper on the federal carbon pricing backstop. The backstop will enforce minimum standards for provincial carbon pricing systems and will be the system applied in provinces that choose not to develop their own approaches. This webinar will unpack the highlights of the technical paper and provide insights into current provincial conversations on carbon pricing. It will give you some tools to provide feedback on the technical paper\, which is welcome until June 30\, 2017. \nWHY THIS MATTERS: Carbon pricing is one of the hallmarks of the Pan-Canadian Framework on Climate Change. Getting it right is important. Part of getting it right is making sure that provincial systems adopt carbon pricing systems that actually reduce emissions. It is critical that CAN-Rac members understand the proposed approach to carbon pricing in this country and push their provinces to adopt systems with integrity and actually reduce emissions in the country. \nWHO WILL BE THERE: On the webinar we’ll hear from Erin Flanagan (Pembina Institute)\, Louise Comeau (University of New Brunswick)\, Stephen Thomas (Ecology Action Centre)\, and more.
URL:https://climateactionnetwork.ca/event/webinar-perspectives-on-carbon-pricing-in-canada/
CATEGORIES:Webinar
ORGANIZER;CN="CAN-Rac":MAILTO:nhattan@climateactionnetwork.ca
END:VEVENT
END:VCALENDAR