BEGIN:VCALENDAR
VERSION:2.0
PRODID:-//Climate Action Network - ECPv5.3.1.1//NONSGML v1.0//EN
CALSCALE:GREGORIAN
METHOD:PUBLISH
X-WR-CALNAME:Climate Action Network
X-ORIGINAL-URL:https://climateactionnetwork.ca
X-WR-CALDESC:Events for Climate Action Network
BEGIN:VTIMEZONE
TZID:America/Toronto
BEGIN:DAYLIGHT
TZOFFSETFROM:-0500
TZOFFSETTO:-0400
TZNAME:EDT
DTSTART:20170312T070000
END:DAYLIGHT
BEGIN:STANDARD
TZOFFSETFROM:-0400
TZOFFSETTO:-0500
TZNAME:EST
DTSTART:20171105T060000
END:STANDARD
END:VTIMEZONE
BEGIN:VEVENT
DTSTART;TZID=America/Toronto:20170727T140000
DTEND;TZID=America/Toronto:20170727T150000
DTSTAMP:20210815T044147
CREATED:20170630T204258Z
LAST-MODIFIED:20170721T000734Z
UID:40489-1501164000-1501167600@climateactionnetwork.ca
SUMMARY:Webinar: What is 'Generation Energy'?
DESCRIPTION:Generation Energy is an opportunity for you to shape Canada’s energy future. Learn more about Generation Energy to make your own submission with Dr. Catherine Potvin of McGill University. Register now!
URL:https://climateactionnetwork.ca/event/webinar-what-is-generation-energy/
CATEGORIES:Webinar
ORGANIZER;CN="CAN-Rac":MAILTO:nhattan@climateactionnetwork.ca
END:VEVENT
END:VCALENDAR