BEGIN:VCALENDAR
VERSION:2.0
PRODID:-//Climate Action Network - ECPv5.3.1.1//NONSGML v1.0//EN
CALSCALE:GREGORIAN
METHOD:PUBLISH
X-WR-CALNAME:Climate Action Network
X-ORIGINAL-URL:https://climateactionnetwork.ca
X-WR-CALDESC:Events for Climate Action Network
BEGIN:VTIMEZONE
TZID:UTC
BEGIN:STANDARD
TZOFFSETFROM:+0000
TZOFFSETTO:+0000
TZNAME:UTC
DTSTART:20170101T000000
END:STANDARD
END:VTIMEZONE
BEGIN:VEVENT
DTSTART;VALUE=DATE:20170422
DTEND;VALUE=DATE:20170423
DTSTAMP:20210815T050643
CREATED:20170323T144101Z
LAST-MODIFIED:20170323T144101Z
UID:39706-1492819200-1492905599@climateactionnetwork.ca
SUMMARY:March for Science
DESCRIPTION:
URL:https://climateactionnetwork.ca/event/march-for-science/
LOCATION:Ottawa\, Ottawa\, Canada
CATEGORIES:March
END:VEVENT
END:VCALENDAR