BEGIN:VCALENDAR
VERSION:2.0
PRODID:-//Climate Action Network - ECPv5.3.1.1//NONSGML v1.0//EN
CALSCALE:GREGORIAN
METHOD:PUBLISH
X-WR-CALNAME:Climate Action Network
X-ORIGINAL-URL:https://climateactionnetwork.ca
X-WR-CALDESC:Events for Climate Action Network
BEGIN:VTIMEZONE
TZID:UTC
BEGIN:STANDARD
TZOFFSETFROM:+0000
TZOFFSETTO:+0000
TZNAME:UTC
DTSTART:20170101T000000
END:STANDARD
END:VTIMEZONE
BEGIN:VEVENT
DTSTART;TZID=UTC:20170404T080000
DTEND;TZID=UTC:20170404T170000
DTSTAMP:20210815T051551
CREATED:20170323T143054Z
LAST-MODIFIED:20170323T144237Z
UID:39700-1491292800-1491325200@climateactionnetwork.ca
SUMMARY:Fossil Fuel Film Screening
DESCRIPTION:
URL:https://climateactionnetwork.ca/event/fossil-fuel-film-screening/
LOCATION:Ottawa\, Ontario\, Canada
CATEGORIES:Screening
END:VEVENT
END:VCALENDAR